BEGIN:VCALENDAR
VERSION:2.0
PRODID:-//SGPWA - ECPv6.15.18//NONSGML v1.0//EN
CALSCALE:GREGORIAN
METHOD:PUBLISH
X-WR-CALNAME:SGPWA
X-ORIGINAL-URL:https://www.sgpwa.com
X-WR-CALDESC:Events for SGPWA
REFRESH-INTERVAL;VALUE=DURATION:PT1H
X-Robots-Tag:noindex
X-PUBLISHED-TTL:PT1H
BEGIN:VTIMEZONE
TZID:America/Los_Angeles
BEGIN:DAYLIGHT
TZOFFSETFROM:-0800
TZOFFSETTO:-0700
TZNAME:PDT
DTSTART:20250309T100000
END:DAYLIGHT
BEGIN:STANDARD
TZOFFSETFROM:-0700
TZOFFSETTO:-0800
TZNAME:PST
DTSTART:20251102T090000
END:STANDARD
BEGIN:DAYLIGHT
TZOFFSETFROM:-0800
TZOFFSETTO:-0700
TZNAME:PDT
DTSTART:20260308T100000
END:DAYLIGHT
BEGIN:STANDARD
TZOFFSETFROM:-0700
TZOFFSETTO:-0800
TZNAME:PST
DTSTART:20261101T090000
END:STANDARD
BEGIN:DAYLIGHT
TZOFFSETFROM:-0800
TZOFFSETTO:-0700
TZNAME:PDT
DTSTART:20270314T100000
END:DAYLIGHT
BEGIN:STANDARD
TZOFFSETFROM:-0700
TZOFFSETTO:-0800
TZNAME:PST
DTSTART:20271107T090000
END:STANDARD
END:VTIMEZONE
BEGIN:VEVENT
DTSTART;TZID=America/Los_Angeles:20260420T180000
DTEND;TZID=America/Los_Angeles:20260420T180000
DTSTAMP:20260411T223551
CREATED:20241212T183134Z
LAST-MODIFIED:20241212T183134Z
UID:17548-1776708000-1776708000@www.sgpwa.com
SUMMARY:Regular Meeting of the Board of Directors
DESCRIPTION:To view meeting agendas\, minutes and presentations visit the Meeting Documents page. 								\n				\n				\n				\n									\n					\n						\n									View Meeting Documents\n					\n					\n				\n								\n				\n				\n				\n									Agendas are posted at least 72 hours prior to the scheduled meeting time.
URL:https://www.sgpwa.com/event/regular-board-meeting-3-2025-06-16/2026-04-20/
LOCATION:San Gorgonio Pass Water Agency\, 1210 Beaumont Avenue\, Beaumont\, 92223\, United States
CATEGORIES:Special Board Meeting
GEO:33.9407084;-116.976927
X-APPLE-STRUCTURED-LOCATION;VALUE=URI;X-ADDRESS=San Gorgonio Pass Water Agency 1210 Beaumont Avenue Beaumont 92223 United States;X-APPLE-RADIUS=500;X-TITLE=1210 Beaumont Avenue:geo:-116.976927,33.9407084
END:VEVENT
BEGIN:VEVENT
DTSTART;TZID=America/Los_Angeles:20260518T180000
DTEND;TZID=America/Los_Angeles:20260518T180000
DTSTAMP:20260411T223551
CREATED:20241212T183134Z
LAST-MODIFIED:20241212T183134Z
UID:17549-1779127200-1779127200@www.sgpwa.com
SUMMARY:Regular Meeting of the Board of Directors
DESCRIPTION:To view meeting agendas\, minutes and presentations visit the Meeting Documents page. 								\n				\n				\n				\n									\n					\n						\n									View Meeting Documents\n					\n					\n				\n								\n				\n				\n				\n									Agendas are posted at least 72 hours prior to the scheduled meeting time.
URL:https://www.sgpwa.com/event/regular-board-meeting-3-2025-06-16/2026-05-18/
LOCATION:San Gorgonio Pass Water Agency\, 1210 Beaumont Avenue\, Beaumont\, 92223\, United States
CATEGORIES:Special Board Meeting
GEO:33.9407084;-116.976927
X-APPLE-STRUCTURED-LOCATION;VALUE=URI;X-ADDRESS=San Gorgonio Pass Water Agency 1210 Beaumont Avenue Beaumont 92223 United States;X-APPLE-RADIUS=500;X-TITLE=1210 Beaumont Avenue:geo:-116.976927,33.9407084
END:VEVENT
END:VCALENDAR