BEGIN:VCALENDAR
VERSION:2.0
PRODID:-//SGPWA - ECPv6.15.18//NONSGML v1.0//EN
CALSCALE:GREGORIAN
METHOD:PUBLISH
X-ORIGINAL-URL:https://www.sgpwa.com
X-WR-CALDESC:Events for SGPWA
REFRESH-INTERVAL;VALUE=DURATION:PT1H
X-Robots-Tag:noindex
X-PUBLISHED-TTL:PT1H
BEGIN:VTIMEZONE
TZID:America/Los_Angeles
BEGIN:DAYLIGHT
TZOFFSETFROM:-0800
TZOFFSETTO:-0700
TZNAME:PDT
DTSTART:20230312T100000
END:DAYLIGHT
BEGIN:STANDARD
TZOFFSETFROM:-0700
TZOFFSETTO:-0800
TZNAME:PST
DTSTART:20231105T090000
END:STANDARD
BEGIN:DAYLIGHT
TZOFFSETFROM:-0800
TZOFFSETTO:-0700
TZNAME:PDT
DTSTART:20240310T100000
END:DAYLIGHT
BEGIN:STANDARD
TZOFFSETFROM:-0700
TZOFFSETTO:-0800
TZNAME:PST
DTSTART:20241103T090000
END:STANDARD
BEGIN:DAYLIGHT
TZOFFSETFROM:-0800
TZOFFSETTO:-0700
TZNAME:PDT
DTSTART:20250309T100000
END:DAYLIGHT
BEGIN:STANDARD
TZOFFSETFROM:-0700
TZOFFSETTO:-0800
TZNAME:PST
DTSTART:20251102T090000
END:STANDARD
BEGIN:DAYLIGHT
TZOFFSETFROM:-0800
TZOFFSETTO:-0700
TZNAME:PDT
DTSTART:20260308T100000
END:DAYLIGHT
BEGIN:STANDARD
TZOFFSETFROM:-0700
TZOFFSETTO:-0800
TZNAME:PST
DTSTART:20261101T090000
END:STANDARD
END:VTIMEZONE
BEGIN:VEVENT
DTSTART;TZID=America/Los_Angeles:20241023T100000
DTEND;TZID=America/Los_Angeles:20241023T100000
DTSTAMP:20260422T013717
CREATED:20230823T163340Z
LAST-MODIFIED:20241016T223012Z
UID:16278-1729677600-1729677600@www.sgpwa.com
SUMMARY:Finance & Budget Committee Meeting
DESCRIPTION:To view meeting agendas\, minutes and presentations visit the Meeting Documents page. \n			\n									View Meeting Documents\n					 \nAgendas are posted at least 72 hours prior to the scheduled meeting time.
URL:https://www.sgpwa.com/event/finance-budget-committee-meeting-2023-10-19-2023-12-21-2024-02-15-2024-04-25-2024-10-24/
LOCATION:San Gorgonio Pass Water Agency\, 1210 Beaumont Avenue\, Beaumont\, 92223\, United States
CATEGORIES:Finance & Budget Committee Meeting
GEO:33.9407084;-116.976927
X-APPLE-STRUCTURED-LOCATION;VALUE=URI;X-ADDRESS=San Gorgonio Pass Water Agency 1210 Beaumont Avenue Beaumont 92223 United States;X-APPLE-RADIUS=500;X-TITLE=1210 Beaumont Avenue:geo:-116.976927,33.9407084
END:VEVENT
BEGIN:VEVENT
DTSTART;TZID=America/Los_Angeles:20241104T133000
DTEND;TZID=America/Los_Angeles:20241104T133000
DTSTAMP:20260422T013717
CREATED:20221208T184335Z
LAST-MODIFIED:20241029T201149Z
UID:15874-1730727000-1730727000@www.sgpwa.com
SUMMARY:Regular Board Meeting
DESCRIPTION:To view meeting agendas\, minutes and presentations visit the Meeting Documents page. \n			\n									View Meeting Documents\n					 \nAgendas are posted at least 72 hours prior to the scheduled meeting time.
URL:https://www.sgpwa.com/event/regular-board-meeting-2-2023-06-26-2023-07-10-2023-07-17-2023-08-07-2023-12-18-2024-11-04/
LOCATION:San Gorgonio Pass Water Agency\, 1210 Beaumont Avenue\, Beaumont\, 92223\, United States
CATEGORIES:Regular Board Meeting
GEO:33.9407084;-116.976927
X-APPLE-STRUCTURED-LOCATION;VALUE=URI;X-ADDRESS=San Gorgonio Pass Water Agency 1210 Beaumont Avenue Beaumont 92223 United States;X-APPLE-RADIUS=500;X-TITLE=1210 Beaumont Avenue:geo:-116.976927,33.9407084
END:VEVENT
BEGIN:VEVENT
DTSTART;TZID=America/Los_Angeles:20241118T180000
DTEND;TZID=America/Los_Angeles:20241118T180000
DTSTAMP:20260422T013717
CREATED:20221208T184335Z
LAST-MODIFIED:20241115T000106Z
UID:15875-1731952800-1731952800@www.sgpwa.com
SUMMARY:Regular Board Meeting
DESCRIPTION:To view meeting agendas\, minutes and presentations visit the Meeting Documents page. \n			\n									View Meeting Documents\n					 \nAgendas are posted at least 72 hours prior to the scheduled meeting time.
URL:https://www.sgpwa.com/event/regular-board-meeting-2-2023-06-26-2023-07-10-2023-07-17-2023-08-07-2023-12-18-2024-11-18/
LOCATION:San Gorgonio Pass Water Agency\, 1210 Beaumont Avenue\, Beaumont\, 92223\, United States
CATEGORIES:Regular Board Meeting
GEO:33.9407084;-116.976927
X-APPLE-STRUCTURED-LOCATION;VALUE=URI;X-ADDRESS=San Gorgonio Pass Water Agency 1210 Beaumont Avenue Beaumont 92223 United States;X-APPLE-RADIUS=500;X-TITLE=1210 Beaumont Avenue:geo:-116.976927,33.9407084
END:VEVENT
BEGIN:VEVENT
DTSTART;TZID=America/Los_Angeles:20241119T133000
DTEND;TZID=America/Los_Angeles:20241119T133000
DTSTAMP:20260422T013717
CREATED:20241114T000039Z
LAST-MODIFIED:20241114T000313Z
UID:16941-1732023000-1732023000@www.sgpwa.com
SUMMARY:Water Conservation and Education Committee Meeting
DESCRIPTION:To view meeting agendas\, minutes and presentations visit the Meeting Documents page. \n			\n									View Meeting Documents\n					 \nAgendas are posted at least 72 hours prior to the scheduled meeting time.
URL:https://www.sgpwa.com/event/water-conservation-and-education-committee-meeting-9/
LOCATION:San Gorgonio Pass Water Agency\, 1210 Beaumont Avenue\, Beaumont\, 92223\, United States
CATEGORIES:Committee Meeting
GEO:33.9407084;-116.976927
X-APPLE-STRUCTURED-LOCATION;VALUE=URI;X-ADDRESS=San Gorgonio Pass Water Agency 1210 Beaumont Avenue Beaumont 92223 United States;X-APPLE-RADIUS=500;X-TITLE=1210 Beaumont Avenue:geo:-116.976927,33.9407084
END:VEVENT
BEGIN:VEVENT
DTSTART;TZID=America/Los_Angeles:20241121T100000
DTEND;TZID=America/Los_Angeles:20241121T100000
DTSTAMP:20260422T013717
CREATED:20241108T230926Z
LAST-MODIFIED:20241114T003430Z
UID:16927-1732183200-1732183200@www.sgpwa.com
SUMMARY:Finance & Budget Committee Meeting
DESCRIPTION:To view meeting agendas\, minutes and presentations visit the Meeting Documents page. \n			\n									View Meeting Documents\n					 \nAgendas are posted at least 72 hours prior to the scheduled meeting time.
URL:https://www.sgpwa.com/event/finance-budget-committee-meeting-5/
LOCATION:San Gorgonio Pass Water Agency\, 1210 Beaumont Avenue\, Beaumont\, 92223\, United States
CATEGORIES:Finance & Budget Committee Meeting
GEO:33.9407084;-116.976927
X-APPLE-STRUCTURED-LOCATION;VALUE=URI;X-ADDRESS=San Gorgonio Pass Water Agency 1210 Beaumont Avenue Beaumont 92223 United States;X-APPLE-RADIUS=500;X-TITLE=1210 Beaumont Avenue:geo:-116.976927,33.9407084
END:VEVENT
BEGIN:VEVENT
DTSTART;TZID=America/Los_Angeles:20241128T100000
DTEND;TZID=America/Los_Angeles:20241128T100000
DTSTAMP:20260422T013717
CREATED:20230823T163340Z
LAST-MODIFIED:20241108T225543Z
UID:16279-1732788000-1732788000@www.sgpwa.com
SUMMARY:Canceled: Finance & Budget Committee Meeting
DESCRIPTION:To view meeting agendas\, minutes and presentations visit the Meeting Documents page. \n			\n									View Meeting Documents\n					 \nAgendas are posted at least 72 hours prior to the scheduled meeting time.
URL:https://www.sgpwa.com/event/finance-budget-committee-meeting-2023-10-19-2023-12-21-2024-02-15-2024-04-25-2024-11-28/
LOCATION:San Gorgonio Pass Water Agency\, 1210 Beaumont Avenue\, Beaumont\, 92223\, United States
CATEGORIES:Finance & Budget Committee Meeting
GEO:33.9407084;-116.976927
X-APPLE-STRUCTURED-LOCATION;VALUE=URI;X-ADDRESS=San Gorgonio Pass Water Agency 1210 Beaumont Avenue Beaumont 92223 United States;X-APPLE-RADIUS=500;X-TITLE=1210 Beaumont Avenue:geo:-116.976927,33.9407084
END:VEVENT
BEGIN:VEVENT
DTSTART;TZID=America/Los_Angeles:20241202T133000
DTEND;TZID=America/Los_Angeles:20241202T133000
DTSTAMP:20260422T013717
CREATED:20221208T184335Z
LAST-MODIFIED:20241218T194122Z
UID:15876-1733146200-1733146200@www.sgpwa.com
SUMMARY:Regular Board Meeting
DESCRIPTION:To view meeting agendas\, minutes and presentations visit the Meeting Documents page. \n\nView Meeting Documents\n \nAgendas are posted at least 72 hours prior to the scheduled meeting time.
URL:https://www.sgpwa.com/event/regular-board-meeting-2-2023-06-26-2023-07-10-2023-07-17-2023-08-07-2023-12-18-2024-12-02/2024-12-02/
LOCATION:San Gorgonio Pass Water Agency\, 1210 Beaumont Avenue\, Beaumont\, 92223\, United States
CATEGORIES:Regular Board Meeting
GEO:33.9407084;-116.976927
X-APPLE-STRUCTURED-LOCATION;VALUE=URI;X-ADDRESS=San Gorgonio Pass Water Agency 1210 Beaumont Avenue Beaumont 92223 United States;X-APPLE-RADIUS=500;X-TITLE=1210 Beaumont Avenue:geo:-116.976927,33.9407084
END:VEVENT
BEGIN:VEVENT
DTSTART;TZID=America/Los_Angeles:20241210T133000
DTEND;TZID=America/Los_Angeles:20241210T133000
DTSTAMP:20260422T013717
CREATED:20221207T222300Z
LAST-MODIFIED:20241202T234624Z
UID:15949-1733837400-1733837400@www.sgpwa.com
SUMMARY:Canceled: Water Conservation and Education Committee Meeting
DESCRIPTION:To view meeting agendas\, minutes and presentations visit the Meeting Documents page. \n					\n									View Meeting Documents\n					 \nAgendas are posted at least 72 hours prior to the scheduled meeting time.
URL:https://www.sgpwa.com/event/water-conservation-and-education-committee-meeting-7-2024-02-13-2024-12-10/
LOCATION:San Gorgonio Pass Water Agency\, 1210 Beaumont Avenue\, Beaumont\, 92223\, United States
CATEGORIES:Committee Meeting
GEO:33.9407084;-116.976927
X-APPLE-STRUCTURED-LOCATION;VALUE=URI;X-ADDRESS=San Gorgonio Pass Water Agency 1210 Beaumont Avenue Beaumont 92223 United States;X-APPLE-RADIUS=500;X-TITLE=1210 Beaumont Avenue:geo:-116.976927,33.9407084
END:VEVENT
BEGIN:VEVENT
DTSTART;TZID=America/Los_Angeles:20241219T100000
DTEND;TZID=America/Los_Angeles:20241219T100000
DTSTAMP:20260422T013717
CREATED:20230823T163340Z
LAST-MODIFIED:20241216T204017Z
UID:16280-1734602400-1734602400@www.sgpwa.com
SUMMARY:Finance & Budget Committee Meeting
DESCRIPTION:To view meeting agendas\, minutes and presentations visit the Meeting Documents page. \n					\n									View Meeting Documents\n					 \nAgendas are posted at least 72 hours prior to the scheduled meeting time.
URL:https://www.sgpwa.com/event/finance-budget-committee-meeting-2023-10-19-2023-12-21-2024-02-15-2024-04-25-2024-12-26/
LOCATION:San Gorgonio Pass Water Agency\, 1210 Beaumont Avenue\, Beaumont\, 92223\, United States
CATEGORIES:Finance & Budget Committee Meeting
GEO:33.9407084;-116.976927
X-APPLE-STRUCTURED-LOCATION;VALUE=URI;X-ADDRESS=San Gorgonio Pass Water Agency 1210 Beaumont Avenue Beaumont 92223 United States;X-APPLE-RADIUS=500;X-TITLE=1210 Beaumont Avenue:geo:-116.976927,33.9407084
END:VEVENT
BEGIN:VEVENT
DTSTART;VALUE=DATE:20241223
DTEND;VALUE=DATE:20241228
DTSTAMP:20260422T013717
CREATED:20221219T190614Z
LAST-MODIFIED:20241218T193220Z
UID:15982-1734912000-1735343999@www.sgpwa.com
SUMMARY:Office closed in observance of Christmas Holiday
DESCRIPTION:
URL:https://www.sgpwa.com/event/office-closed-in-observance-of-christmas-holiday-2024-12-25/
LOCATION:San Gorgonio Pass Water Agency\, 1210 Beaumont Avenue\, Beaumont\, 92223\, United States
CATEGORIES:Office Closed: Holiday
GEO:33.9407084;-116.976927
X-APPLE-STRUCTURED-LOCATION;VALUE=URI;X-ADDRESS=San Gorgonio Pass Water Agency 1210 Beaumont Avenue Beaumont 92223 United States;X-APPLE-RADIUS=500;X-TITLE=1210 Beaumont Avenue:geo:-116.976927,33.9407084
END:VEVENT
BEGIN:VEVENT
DTSTART;VALUE=DATE:20241230
DTEND;VALUE=DATE:20250102
DTSTAMP:20260422T013717
CREATED:20210205T181603Z
LAST-MODIFIED:20241218T193721Z
UID:15987-1735516800-1735775999@www.sgpwa.com
SUMMARY:Office closed in observance of New Year's Holiday
DESCRIPTION:
URL:https://www.sgpwa.com/event/office-closed-in-observance-of-new-years-day-2024-12-31/
LOCATION:San Gorgonio Pass Water Agency\, 1210 Beaumont Avenue\, Beaumont\, 92223\, United States
GEO:33.9407084;-116.976927
X-APPLE-STRUCTURED-LOCATION;VALUE=URI;X-ADDRESS=San Gorgonio Pass Water Agency 1210 Beaumont Avenue Beaumont 92223 United States;X-APPLE-RADIUS=500;X-TITLE=1210 Beaumont Avenue:geo:-116.976927,33.9407084
END:VEVENT
BEGIN:VEVENT
DTSTART;TZID=America/Los_Angeles:20250106T133000
DTEND;TZID=America/Los_Angeles:20250106T133000
DTSTAMP:20260422T013717
CREATED:20221208T184335Z
LAST-MODIFIED:20250103T004144Z
UID:17009-1736170200-1736170200@www.sgpwa.com
SUMMARY:Regular Board Meeting
DESCRIPTION:To view meeting agendas\, minutes and presentations visit the Meeting Documents page. \n					\n									View Meeting Documents\n					 \nAgendas are posted at least 72 hours prior to the scheduled meeting time.
URL:https://www.sgpwa.com/event/regular-board-meeting-2-2023-06-26-2023-07-10-2023-07-17-2023-08-07-2023-12-18-2024-12-02-2025-01-06/
LOCATION:San Gorgonio Pass Water Agency\, 1210 Beaumont Avenue\, Beaumont\, 92223\, United States
CATEGORIES:Regular Board Meeting
GEO:33.9407084;-116.976927
X-APPLE-STRUCTURED-LOCATION;VALUE=URI;X-ADDRESS=San Gorgonio Pass Water Agency 1210 Beaumont Avenue Beaumont 92223 United States;X-APPLE-RADIUS=500;X-TITLE=1210 Beaumont Avenue:geo:-116.976927,33.9407084
END:VEVENT
BEGIN:VEVENT
DTSTART;VALUE=DATE:20250110
DTEND;VALUE=DATE:20250111
DTSTAMP:20260422T013717
CREATED:20250103T173310Z
LAST-MODIFIED:20250103T173310Z
UID:17079-1736467200-1736553599@www.sgpwa.com
SUMMARY:Office Closed
DESCRIPTION:
URL:https://www.sgpwa.com/event/office-closed-3/2025-01-10/
LOCATION:San Gorgonio Pass Water Agency\, 1210 Beaumont Avenue\, Beaumont\, 92223\, United States
CATEGORIES:Office Closed
GEO:33.9407084;-116.976927
X-APPLE-STRUCTURED-LOCATION;VALUE=URI;X-ADDRESS=San Gorgonio Pass Water Agency 1210 Beaumont Avenue Beaumont 92223 United States;X-APPLE-RADIUS=500;X-TITLE=1210 Beaumont Avenue:geo:-116.976927,33.9407084
END:VEVENT
BEGIN:VEVENT
DTSTART;VALUE=DATE:20250120
DTEND;VALUE=DATE:20250121
DTSTAMP:20260422T013717
CREATED:20250103T172821Z
LAST-MODIFIED:20250103T172953Z
UID:17078-1737331200-1737417599@www.sgpwa.com
SUMMARY:Office Closed in Observance of Martin Luther King Jr. Day
DESCRIPTION:
URL:https://www.sgpwa.com/event/office-closed-in-observance-of-martin-luther-king-jr-day-3/
LOCATION:San Gorgonio Pass Water Agency\, 1210 Beaumont Avenue\, Beaumont\, 92223\, United States
CATEGORIES:Office Closed: Holiday
GEO:33.9407084;-116.976927
X-APPLE-STRUCTURED-LOCATION;VALUE=URI;X-ADDRESS=San Gorgonio Pass Water Agency 1210 Beaumont Avenue Beaumont 92223 United States;X-APPLE-RADIUS=500;X-TITLE=1210 Beaumont Avenue:geo:-116.976927,33.9407084
END:VEVENT
BEGIN:VEVENT
DTSTART;TZID=America/Los_Angeles:20250120T180000
DTEND;TZID=America/Los_Angeles:20250120T180000
DTSTAMP:20260422T013717
CREATED:20241212T183134Z
LAST-MODIFIED:20250117T175636Z
UID:17021-1737396000-1737396000@www.sgpwa.com
SUMMARY:Canceled: Regular Board Meeting
DESCRIPTION:To view meeting agendas\, minutes and presentations visit the Meeting Documents page. \n					\n									View Meeting Documents\n					 \nAgendas are posted at least 72 hours prior to the scheduled meeting time.
URL:https://www.sgpwa.com/event/regular-board-meeting-3-2025-01-20/
LOCATION:San Gorgonio Pass Water Agency\, 1210 Beaumont Avenue\, Beaumont\, 92223\, United States
CATEGORIES:Regular Board Meeting
GEO:33.9407084;-116.976927
X-APPLE-STRUCTURED-LOCATION;VALUE=URI;X-ADDRESS=San Gorgonio Pass Water Agency 1210 Beaumont Avenue Beaumont 92223 United States;X-APPLE-RADIUS=500;X-TITLE=1210 Beaumont Avenue:geo:-116.976927,33.9407084
END:VEVENT
BEGIN:VEVENT
DTSTART;TZID=America/Los_Angeles:20250123T100000
DTEND;TZID=America/Los_Angeles:20250123T100000
DTSTAMP:20260422T013717
CREATED:20241218T233941Z
LAST-MODIFIED:20250120T175238Z
UID:17033-1737626400-1737626400@www.sgpwa.com
SUMMARY:Finance & Budget Committee Meeting
DESCRIPTION:To view meeting agendas\, minutes and presentations visit the Meeting Documents page. \n					\n									View Meeting Documents\n					 \nAgendas are posted at least 72 hours prior to the scheduled meeting time.
URL:https://www.sgpwa.com/event/finance-budget-committee-meeting-6/
LOCATION:San Gorgonio Pass Water Agency\, 1210 Beaumont Avenue\, Beaumont\, 92223\, United States
CATEGORIES:Finance & Budget Committee Meeting
GEO:33.9407084;-116.976927
X-APPLE-STRUCTURED-LOCATION;VALUE=URI;X-ADDRESS=San Gorgonio Pass Water Agency 1210 Beaumont Avenue Beaumont 92223 United States;X-APPLE-RADIUS=500;X-TITLE=1210 Beaumont Avenue:geo:-116.976927,33.9407084
END:VEVENT
BEGIN:VEVENT
DTSTART;TZID=America/Los_Angeles:20250127T180000
DTEND;TZID=America/Los_Angeles:20250127T180000
DTSTAMP:20260422T013717
CREATED:20250103T172055Z
LAST-MODIFIED:20250123T224356Z
UID:17077-1738000800-1738000800@www.sgpwa.com
SUMMARY:Regular Board Meeting
DESCRIPTION:To view meeting agendas\, minutes and presentations visit the Meeting Documents page. \n					\n									View Meeting Documents\n					 \nAgendas are posted at least 72 hours prior to the scheduled meeting time.
URL:https://www.sgpwa.com/event/regular-board-meeting-4/
LOCATION:San Gorgonio Pass Water Agency\, 1210 Beaumont Avenue\, Beaumont\, 92223\, United States
CATEGORIES:Regular Board Meeting
GEO:33.9407084;-116.976927
X-APPLE-STRUCTURED-LOCATION;VALUE=URI;X-ADDRESS=San Gorgonio Pass Water Agency 1210 Beaumont Avenue Beaumont 92223 United States;X-APPLE-RADIUS=500;X-TITLE=1210 Beaumont Avenue:geo:-116.976927,33.9407084
END:VEVENT
BEGIN:VEVENT
DTSTART;TZID=America/Los_Angeles:20250203T133000
DTEND;TZID=America/Los_Angeles:20250203T133000
DTSTAMP:20260422T013717
CREATED:20221208T184335Z
LAST-MODIFIED:20250131T180812Z
UID:17010-1738589400-1738589400@www.sgpwa.com
SUMMARY:Regular Board Meeting
DESCRIPTION:To view meeting agendas\, minutes and presentations visit the Meeting Documents page. \n					\n									View Meeting Documents\n					 \nAgendas are posted at least 72 hours prior to the scheduled meeting time.
URL:https://www.sgpwa.com/event/regular-board-meeting-2-2023-06-26-2023-07-10-2023-07-17-2023-08-07-2023-12-18-2024-12-02-2025-02-03/
LOCATION:San Gorgonio Pass Water Agency\, 1210 Beaumont Avenue\, Beaumont\, 92223\, United States
CATEGORIES:Regular Board Meeting
GEO:33.9407084;-116.976927
X-APPLE-STRUCTURED-LOCATION;VALUE=URI;X-ADDRESS=San Gorgonio Pass Water Agency 1210 Beaumont Avenue Beaumont 92223 United States;X-APPLE-RADIUS=500;X-TITLE=1210 Beaumont Avenue:geo:-116.976927,33.9407084
END:VEVENT
BEGIN:VEVENT
DTSTART;TZID=America/Los_Angeles:20250211T133000
DTEND;TZID=America/Los_Angeles:20250211T133000
DTSTAMP:20260422T013717
CREATED:20241218T235130Z
LAST-MODIFIED:20250206T233620Z
UID:17044-1739280600-1739280600@www.sgpwa.com
SUMMARY:Water Conservation & Education Committee Meeting
DESCRIPTION:To view meeting agendas\, minutes and presentations visit the Meeting Documents page. \n					\n									View Meeting Documents\n					 \nAgendas are posted at least 72 hours prior to the scheduled meeting time.
URL:https://www.sgpwa.com/event/water-conservation-education-committee-meeting-3/
LOCATION:San Gorgonio Pass Water Agency\, 1210 Beaumont Avenue\, Beaumont\, 92223\, United States
CATEGORIES:Committee Meeting
GEO:33.9407084;-116.976927
X-APPLE-STRUCTURED-LOCATION;VALUE=URI;X-ADDRESS=San Gorgonio Pass Water Agency 1210 Beaumont Avenue Beaumont 92223 United States;X-APPLE-RADIUS=500;X-TITLE=1210 Beaumont Avenue:geo:-116.976927,33.9407084
END:VEVENT
BEGIN:VEVENT
DTSTART;VALUE=DATE:20250217
DTEND;VALUE=DATE:20250218
DTSTAMP:20260422T013717
CREATED:20250103T175440Z
LAST-MODIFIED:20250103T175440Z
UID:17105-1739750400-1739836799@www.sgpwa.com
SUMMARY:Office Closed in Observance of President's Day
DESCRIPTION:
URL:https://www.sgpwa.com/event/office-closed-in-observance-of-presidents-day-3/2025-02-17/
LOCATION:San Gorgonio Pass Water Agency\, 1210 Beaumont Avenue\, Beaumont\, 92223\, United States
CATEGORIES:Office Closed: Holiday
GEO:33.9407084;-116.976927
X-APPLE-STRUCTURED-LOCATION;VALUE=URI;X-ADDRESS=San Gorgonio Pass Water Agency 1210 Beaumont Avenue Beaumont 92223 United States;X-APPLE-RADIUS=500;X-TITLE=1210 Beaumont Avenue:geo:-116.976927,33.9407084
END:VEVENT
BEGIN:VEVENT
DTSTART;TZID=America/Los_Angeles:20250217T180000
DTEND;TZID=America/Los_Angeles:20250217T180000
DTSTAMP:20260422T013717
CREATED:20241212T183134Z
LAST-MODIFIED:20250213T155657Z
UID:17022-1739815200-1739815200@www.sgpwa.com
SUMMARY:Canceled: Regular Board Meeting
DESCRIPTION:To view meeting agendas\, minutes and presentations visit the Meeting Documents page. \n					\n									View Meeting Documents\n					 \nAgendas are posted at least 72 hours prior to the scheduled meeting time.
URL:https://www.sgpwa.com/event/regular-board-meeting-3-2025-02-17/
LOCATION:San Gorgonio Pass Water Agency\, 1210 Beaumont Avenue\, Beaumont\, 92223\, United States
CATEGORIES:Regular Board Meeting
GEO:33.9407084;-116.976927
X-APPLE-STRUCTURED-LOCATION;VALUE=URI;X-ADDRESS=San Gorgonio Pass Water Agency 1210 Beaumont Avenue Beaumont 92223 United States;X-APPLE-RADIUS=500;X-TITLE=1210 Beaumont Avenue:geo:-116.976927,33.9407084
END:VEVENT
BEGIN:VEVENT
DTSTART;TZID=America/Los_Angeles:20250219T100000
DTEND;TZID=America/Los_Angeles:20250219T100000
DTSTAMP:20260422T013717
CREATED:20241218T233941Z
LAST-MODIFIED:20250214T181459Z
UID:17034-1739959200-1739959200@www.sgpwa.com
SUMMARY:Finance & Budget Committee Meeting
DESCRIPTION:To view meeting agendas\, minutes and presentations visit the Meeting Documents page. \n					\n									View Meeting Documents\n					 \nAgendas are posted at least 72 hours prior to the scheduled meeting time.
URL:https://www.sgpwa.com/event/finance-budget-committee-meeting-6-2025-02-27/
LOCATION:San Gorgonio Pass Water Agency\, 1210 Beaumont Avenue\, Beaumont\, 92223\, United States
CATEGORIES:Finance & Budget Committee Meeting
GEO:33.9407084;-116.976927
X-APPLE-STRUCTURED-LOCATION;VALUE=URI;X-ADDRESS=San Gorgonio Pass Water Agency 1210 Beaumont Avenue Beaumont 92223 United States;X-APPLE-RADIUS=500;X-TITLE=1210 Beaumont Avenue:geo:-116.976927,33.9407084
END:VEVENT
BEGIN:VEVENT
DTSTART;TZID=America/Los_Angeles:20250224T180000
DTEND;TZID=America/Los_Angeles:20250224T180000
DTSTAMP:20260422T013717
CREATED:20250221T065331Z
LAST-MODIFIED:20250221T065501Z
UID:17268-1740420000-1740420000@www.sgpwa.com
SUMMARY:Regular Board Meeting
DESCRIPTION:To view meeting agendas\, minutes and presentations visit the Meeting Documents page. \n					\n									View Meeting Documents\n					 \nAgendas are posted at least 72 hours prior to the scheduled meeting time.
URL:https://www.sgpwa.com/event/regular-board-meeting-5/
LOCATION:San Gorgonio Pass Water Agency\, 1210 Beaumont Avenue\, Beaumont\, 92223\, United States
CATEGORIES:Regular Board Meeting
GEO:33.9407084;-116.976927
X-APPLE-STRUCTURED-LOCATION;VALUE=URI;X-ADDRESS=San Gorgonio Pass Water Agency 1210 Beaumont Avenue Beaumont 92223 United States;X-APPLE-RADIUS=500;X-TITLE=1210 Beaumont Avenue:geo:-116.976927,33.9407084
END:VEVENT
BEGIN:VEVENT
DTSTART;TZID=America/Los_Angeles:20250303T133000
DTEND;TZID=America/Los_Angeles:20250303T133000
DTSTAMP:20260422T013717
CREATED:20221208T184335Z
LAST-MODIFIED:20250227T182708Z
UID:17011-1741008600-1741008600@www.sgpwa.com
SUMMARY:Regular Board Meeting
DESCRIPTION:To view meeting agendas\, minutes and presentations visit the Meeting Documents page. \n					\n									View Meeting Documents\n					 \nAgendas are posted at least 72 hours prior to the scheduled meeting time.
URL:https://www.sgpwa.com/event/regular-board-meeting-2-2023-06-26-2023-07-10-2023-07-17-2023-08-07-2023-12-18-2024-12-02-2025-03-03/
LOCATION:San Gorgonio Pass Water Agency\, 1210 Beaumont Avenue\, Beaumont\, 92223\, United States
CATEGORIES:Regular Board Meeting
GEO:33.9407084;-116.976927
X-APPLE-STRUCTURED-LOCATION;VALUE=URI;X-ADDRESS=San Gorgonio Pass Water Agency 1210 Beaumont Avenue Beaumont 92223 United States;X-APPLE-RADIUS=500;X-TITLE=1210 Beaumont Avenue:geo:-116.976927,33.9407084
END:VEVENT
BEGIN:VEVENT
DTSTART;TZID=America/Los_Angeles:20250317T180000
DTEND;TZID=America/Los_Angeles:20250317T180000
DTSTAMP:20260422T013717
CREATED:20241212T183134Z
LAST-MODIFIED:20250313T183733Z
UID:17023-1742234400-1742234400@www.sgpwa.com
SUMMARY:Regular Board Meeting
DESCRIPTION:To view meeting agendas\, minutes and presentations visit the Meeting Documents page. \n					\n									View Meeting Documents\n					 \nAgendas are posted at least 72 hours prior to the scheduled meeting time.
URL:https://www.sgpwa.com/event/regular-board-meeting-3-2025-03-17/
LOCATION:San Gorgonio Pass Water Agency\, 1210 Beaumont Avenue\, Beaumont\, 92223\, United States
CATEGORIES:Regular Board Meeting
GEO:33.9407084;-116.976927
X-APPLE-STRUCTURED-LOCATION;VALUE=URI;X-ADDRESS=San Gorgonio Pass Water Agency 1210 Beaumont Avenue Beaumont 92223 United States;X-APPLE-RADIUS=500;X-TITLE=1210 Beaumont Avenue:geo:-116.976927,33.9407084
END:VEVENT
BEGIN:VEVENT
DTSTART;TZID=America/Los_Angeles:20250327T100000
DTEND;TZID=America/Los_Angeles:20250327T100000
DTSTAMP:20260422T013717
CREATED:20241218T233941Z
LAST-MODIFIED:20250324T152603Z
UID:17035-1743069600-1743069600@www.sgpwa.com
SUMMARY:Finance & Budget Committee Meeting
DESCRIPTION:To view meeting agendas\, minutes and presentations visit the Meeting Documents page. \n					\n									View Meeting Documents\n					 \nAgendas are posted at least 72 hours prior to the scheduled meeting time.
URL:https://www.sgpwa.com/event/finance-budget-committee-meeting-6-2025-03-27/
LOCATION:San Gorgonio Pass Water Agency\, 1210 Beaumont Avenue\, Beaumont\, 92223\, United States
CATEGORIES:Finance & Budget Committee Meeting
GEO:33.9407084;-116.976927
X-APPLE-STRUCTURED-LOCATION;VALUE=URI;X-ADDRESS=San Gorgonio Pass Water Agency 1210 Beaumont Avenue Beaumont 92223 United States;X-APPLE-RADIUS=500;X-TITLE=1210 Beaumont Avenue:geo:-116.976927,33.9407084
END:VEVENT
BEGIN:VEVENT
DTSTART;TZID=America/Los_Angeles:20250328T090000
DTEND;TZID=America/Los_Angeles:20250328T090000
DTSTAMP:20260422T013717
CREATED:20241212T183134Z
LAST-MODIFIED:20250320T205844Z
UID:16996-1743152400-1743152400@www.sgpwa.com
SUMMARY:Special Meeting of the Board of Directors
DESCRIPTION:To view meeting agendas\, minutes and presentations visit the Meeting Documents page. \n					\n									View Meeting Documents\n					 \nAgendas are posted at least 72 hours prior to the scheduled meeting time.
URL:https://www.sgpwa.com/event/regular-board-meeting-3/
LOCATION:San Gorgonio Pass Water Agency\, 1210 Beaumont Avenue\, Beaumont\, 92223\, United States
CATEGORIES:Special Board Meeting
GEO:33.9407084;-116.976927
X-APPLE-STRUCTURED-LOCATION;VALUE=URI;X-ADDRESS=San Gorgonio Pass Water Agency 1210 Beaumont Avenue Beaumont 92223 United States;X-APPLE-RADIUS=500;X-TITLE=1210 Beaumont Avenue:geo:-116.976927,33.9407084
END:VEVENT
BEGIN:VEVENT
DTSTART;TZID=America/Los_Angeles:20250407T133000
DTEND;TZID=America/Los_Angeles:20250407T133000
DTSTAMP:20260422T013717
CREATED:20221208T184335Z
LAST-MODIFIED:20250403T183413Z
UID:17012-1744032600-1744032600@www.sgpwa.com
SUMMARY:Regular Board Meeting
DESCRIPTION:To view meeting agendas\, minutes and presentations visit the Meeting Documents page. \n					\n									View Meeting Documents\n					 \nAgendas are posted at least 72 hours prior to the scheduled meeting time.
URL:https://www.sgpwa.com/event/regular-board-meeting-2-2023-06-26-2023-07-10-2023-07-17-2023-08-07-2023-12-18-2024-12-02-2025-04-07/
LOCATION:San Gorgonio Pass Water Agency\, 1210 Beaumont Avenue\, Beaumont\, 92223\, United States
CATEGORIES:Regular Board Meeting
GEO:33.9407084;-116.976927
X-APPLE-STRUCTURED-LOCATION;VALUE=URI;X-ADDRESS=San Gorgonio Pass Water Agency 1210 Beaumont Avenue Beaumont 92223 United States;X-APPLE-RADIUS=500;X-TITLE=1210 Beaumont Avenue:geo:-116.976927,33.9407084
END:VEVENT
BEGIN:VEVENT
DTSTART;TZID=America/Los_Angeles:20250408T133000
DTEND;TZID=America/Los_Angeles:20250408T133000
DTSTAMP:20260422T013717
CREATED:20241218T235130Z
LAST-MODIFIED:20250403T235009Z
UID:17045-1744119000-1744119000@www.sgpwa.com
SUMMARY:Water Conservation & Education Committee Meeting
DESCRIPTION:To view meeting agendas\, minutes and presentations visit the Meeting Documents page. \n					\n									View Meeting Documents\n					 \nAgendas are posted at least 72 hours prior to the scheduled meeting time.
URL:https://www.sgpwa.com/event/water-conservation-education-committee-meeting-3-2025-04-08/
LOCATION:San Gorgonio Pass Water Agency\, 1210 Beaumont Avenue\, Beaumont\, 92223\, United States
CATEGORIES:Committee Meeting
GEO:33.9407084;-116.976927
X-APPLE-STRUCTURED-LOCATION;VALUE=URI;X-ADDRESS=San Gorgonio Pass Water Agency 1210 Beaumont Avenue Beaumont 92223 United States;X-APPLE-RADIUS=500;X-TITLE=1210 Beaumont Avenue:geo:-116.976927,33.9407084
END:VEVENT
BEGIN:VEVENT
DTSTART;TZID=America/Los_Angeles:20250421T180000
DTEND;TZID=America/Los_Angeles:20250421T180000
DTSTAMP:20260422T013717
CREATED:20241212T183134Z
LAST-MODIFIED:20250417T202306Z
UID:17326-1745258400-1745258400@www.sgpwa.com
SUMMARY:Regular Meeting of the Board of Directors
DESCRIPTION:To view meeting agendas\, minutes and presentations visit the Meeting Documents page. \n					\n									View Meeting Documents\n					 \nAgendas are posted at least 72 hours prior to the scheduled meeting time.
URL:https://www.sgpwa.com/event/regular-board-meeting-3-2025-04-21/
LOCATION:San Gorgonio Pass Water Agency\, 1210 Beaumont Avenue\, Beaumont\, 92223\, United States
CATEGORIES:Special Board Meeting
GEO:33.9407084;-116.976927
X-APPLE-STRUCTURED-LOCATION;VALUE=URI;X-ADDRESS=San Gorgonio Pass Water Agency 1210 Beaumont Avenue Beaumont 92223 United States;X-APPLE-RADIUS=500;X-TITLE=1210 Beaumont Avenue:geo:-116.976927,33.9407084
END:VEVENT
END:VCALENDAR